BEGIN:VCALENDAR
VERSION:2.0
PRODID:gruene-marburg.de
METHOD:PUBLISH
BEGIN:VTIMEZONE
TZID:Europe/Berlin
X-LIC-LOCATION:Europe/Berlin
BEGIN:DAYLIGHT
TZOFFSETFROM:+0100
TZOFFSETTO:+0200
TZNAME:CEST
DTSTART:19700329T020000
RRULE:FREQ=YEARLY;INTERVAL=1;BYDAY=-1SU;BYMONTH=3
END:DAYLIGHT
BEGIN:STANDARD
TZOFFSETFROM:+0200
TZOFFSETTO:+0100
TZNAME:CET
DTSTART:19701025T030000
RRULE:FREQ=YEARLY;INTERVAL=1;BYDAY=-1SU;BYMONTH=10
END:STANDARD
END:VTIMEZONE
BEGIN:VEVENT
UID:1bd8552c173dc6e1af4bd24399af47f0@gruene-marburg.de
URL;VALUE=URI:https://gruene-marburg.de/termine/sprechstunde-des-stadtvor
 standes/
LOCATION:Geschäftsstelle, Frankfurter Straße 46, Marburg
SUMMARY:Sprechstunde des Stadtvorstandes
DESCRIPTION;ALTREP="data:text/html,%0A%3Cp%20class%3D%22has-vivid-red-col
 or%20has-text-color%20has-link-color%20wp-elements-51240c5908214cc590f7d5
 62c07ce1be%22%3E%3Cstrong%3EDie%20Sprechstunde%20des%20Stadtvorstandes%20
 f%C3%A4llt%20heute%20aus%21%3C%2Fstrong%3E%3C%2Fp%3E%0A%0A%0A%0A%3Cp%3E%3
 C%2Fp%3E%0A":Die Sprechstunde des Stadtvorstandes fällt heute aus!
CLASS:PUBLIC
DTSTART;TZID=Europe/Berlin:20250312T183000
DTEND;TZID=Europe/Berlin:20250312T190000
DTSTAMP:20260419T184300
END:VEVENT
END:VCALENDAR