BEGIN:VCALENDAR
VERSION:2.0
PRODID:gruene-marburg.de
METHOD:PUBLISH
BEGIN:VTIMEZONE
TZID:Europe/Berlin
X-LIC-LOCATION:Europe/Berlin
BEGIN:DAYLIGHT
TZOFFSETFROM:+0100
TZOFFSETTO:+0200
TZNAME:CEST
DTSTART:19700329T020000
RRULE:FREQ=YEARLY;INTERVAL=1;BYDAY=-1SU;BYMONTH=3
END:DAYLIGHT
BEGIN:STANDARD
TZOFFSETFROM:+0200
TZOFFSETTO:+0100
TZNAME:CET
DTSTART:19701025T030000
RRULE:FREQ=YEARLY;INTERVAL=1;BYDAY=-1SU;BYMONTH=10
END:STANDARD
END:VTIMEZONE
BEGIN:VEVENT
UID:9c91e7c50b6338acf279da57c5a8451a@gruene-marburg.de
URL;VALUE=URI:https://gruene-marburg.de/termine/gruener-treff/
LOCATION:Frankfurter Straße 46, Marburg
SUMMARY:Grüner Treff
DESCRIPTION;ALTREP="data:text/html,%E2%80%9EWie%20weiter%20mit%20den%20GR
 %C3%9CNEN%3F%22%0D%0A%0D%0A%26nbsp%3B%0D%0A%0D%0A":„Wie weiter mit den 
 GRÜNEN?"\n\n 
CLASS:PUBLIC
DTSTART;TZID=Europe/Berlin:20241105T200000
DTEND;TZID=Europe/Berlin:20241105T210000
DTSTAMP:20260419T183541
END:VEVENT
END:VCALENDAR