BEGIN:VCALENDAR
VERSION:2.0
PRODID:gruene-marburg.de
METHOD:PUBLISH
BEGIN:VTIMEZONE
TZID:Europe/Berlin
X-LIC-LOCATION:Europe/Berlin
BEGIN:DAYLIGHT
TZOFFSETFROM:+0100
TZOFFSETTO:+0200
TZNAME:CEST
DTSTART:19700329T020000
RRULE:FREQ=YEARLY;INTERVAL=1;BYDAY=-1SU;BYMONTH=3
END:DAYLIGHT
BEGIN:STANDARD
TZOFFSETFROM:+0200
TZOFFSETTO:+0100
TZNAME:CET
DTSTART:19701025T030000
RRULE:FREQ=YEARLY;INTERVAL=1;BYDAY=-1SU;BYMONTH=10
END:STANDARD
END:VTIMEZONE
BEGIN:VEVENT
UID:066928108a92b380fd6ca155a5e005af@gruene-marburg.de
URL;VALUE=URI:https://gruene-marburg.de/termine/digitaler-info-abend-fuer
 -neumitglieder/
LOCATION:
SUMMARY:Digitaler Info-Abend für Neumitglieder
DESCRIPTION;ALTREP="data:text/html,%0A%3Cp%3ELink%20kommt%20per%20E-Mail%
 20%C3%BCber%20den%20Mitgliederverteiler%3C%2Fp%3E%0A":Link kommt per E-Ma
 il über den Mitgliederverteiler
CLASS:PUBLIC
DTSTART;TZID=Europe/Berlin:20250319T190000
DTEND;TZID=Europe/Berlin:20250319T210000
DTSTAMP:20260420T121703
END:VEVENT
END:VCALENDAR