BEGIN:VCALENDAR
VERSION:2.0
PRODID:gruene-marburg.de
METHOD:PUBLISH
BEGIN:VTIMEZONE
TZID:Europe/Berlin
X-LIC-LOCATION:Europe/Berlin
BEGIN:DAYLIGHT
TZOFFSETFROM:+0100
TZOFFSETTO:+0200
TZNAME:CEST
DTSTART:19700329T020000
RRULE:FREQ=YEARLY;INTERVAL=1;BYDAY=-1SU;BYMONTH=3
END:DAYLIGHT
BEGIN:STANDARD
TZOFFSETFROM:+0200
TZOFFSETTO:+0100
TZNAME:CET
DTSTART:19701025T030000
RRULE:FREQ=YEARLY;INTERVAL=1;BYDAY=-1SU;BYMONTH=10
END:STANDARD
END:VTIMEZONE
BEGIN:VEVENT
UID:e282cd6475b7e4da7dbe2cf64aa9d560@gruene-marburg.de
URL;VALUE=URI:https://gruene-marburg.de/termine/ag-haushalt/
LOCATION:Geschäftsstelle, Frankfurter Str. 46, Marburg
SUMMARY:AG Haushalt
DESCRIPTION;ALTREP="data:text/html,":
CLASS:PUBLIC
DTSTART;TZID=Europe/Berlin:20250515T180000
DTEND;TZID=Europe/Berlin:20250515T190000
DTSTAMP:20260419T065854
END:VEVENT
END:VCALENDAR